BEGIN:VCALENDAR
VERSION:2.0
PRODID:-//ChamberMaster//Event Calendar 2.0//EN
METHOD:PUBLISH
X-PUBLISHED-TTL:P3D
REFRESH-INTERVAL:P3D
CALSCALE:GREGORIAN
BEGIN:VEVENT
DTSTART:20260418T140000Z
DTEND:20260418T160000Z
X-MICROSOFT-CDO-ALLDAYEVENT:FALSE
SUMMARY:Ribbon Cutting - GCCC Disc Golf Course
DESCRIPTION:Ribbon Cutting - Garden City Community College Disc Golf Course
X-ALT-DESC;FMTTYPE=text/html:Ribbon Cutting - Garden City Community College Disc Golf Course
LOCATION:Located at Garden City Community College directly behind the softball fields.
UID:e.1593.5475
SEQUENCE:3
DTSTAMP:20260421T125037Z
URL:https://business.gckschamber.com/events/details/ribbon-cutting-gccc-disc-golf-course-5475
END:VEVENT

END:VCALENDAR
